BEGIN:VCALENDAR
VERSION:2.0
PRODID:-//IBEW Local 94 - ECPv6.15.13//NONSGML v1.0//EN
CALSCALE:GREGORIAN
METHOD:PUBLISH
X-ORIGINAL-URL:https://ibew94.org
X-WR-CALDESC:Events for IBEW Local 94
REFRESH-INTERVAL;VALUE=DURATION:PT1H
X-Robots-Tag:noindex
X-PUBLISHED-TTL:PT1H
BEGIN:VTIMEZONE
TZID:America/New_York
BEGIN:DAYLIGHT
TZOFFSETFROM:-0500
TZOFFSETTO:-0400
TZNAME:EDT
DTSTART:20200308T070000
END:DAYLIGHT
BEGIN:STANDARD
TZOFFSETFROM:-0400
TZOFFSETTO:-0500
TZNAME:EST
DTSTART:20201101T060000
END:STANDARD
BEGIN:DAYLIGHT
TZOFFSETFROM:-0500
TZOFFSETTO:-0400
TZNAME:EDT
DTSTART:20210314T070000
END:DAYLIGHT
BEGIN:STANDARD
TZOFFSETFROM:-0400
TZOFFSETTO:-0500
TZNAME:EST
DTSTART:20211107T060000
END:STANDARD
BEGIN:DAYLIGHT
TZOFFSETFROM:-0500
TZOFFSETTO:-0400
TZNAME:EDT
DTSTART:20220313T070000
END:DAYLIGHT
BEGIN:STANDARD
TZOFFSETFROM:-0400
TZOFFSETTO:-0500
TZNAME:EST
DTSTART:20221106T060000
END:STANDARD
BEGIN:DAYLIGHT
TZOFFSETFROM:-0500
TZOFFSETTO:-0400
TZNAME:EDT
DTSTART:20230312T070000
END:DAYLIGHT
BEGIN:STANDARD
TZOFFSETFROM:-0400
TZOFFSETTO:-0500
TZNAME:EST
DTSTART:20231105T060000
END:STANDARD
BEGIN:DAYLIGHT
TZOFFSETFROM:-0500
TZOFFSETTO:-0400
TZNAME:EDT
DTSTART:20240310T070000
END:DAYLIGHT
BEGIN:STANDARD
TZOFFSETFROM:-0400
TZOFFSETTO:-0500
TZNAME:EST
DTSTART:20241103T060000
END:STANDARD
END:VTIMEZONE
BEGIN:VEVENT
DTSTART;TZID=America/New_York:20230117T163000
DTEND;TZID=America/New_York:20230117T183000
DTSTAMP:20260423T043240
CREATED:20230110T153217Z
LAST-MODIFIED:20230110T153218Z
UID:1560-1673973000-1673980200@ibew94.org
SUMMARY:Nuclear Meeting - January 17\, 2023
DESCRIPTION:
URL:https://ibew94.org/date/nuclear-meeting-january-17-2023/
LOCATION:VFW Hall Pensville\, 171 S. Broadway\, Pennsville\, NJ\, United States
END:VEVENT
BEGIN:VEVENT
DTSTART;TZID=America/New_York:20230111T170000
DTEND;TZID=America/New_York:20230111T190000
DTSTAMP:20260423T043240
CREATED:20230110T153302Z
LAST-MODIFIED:20230110T153302Z
UID:1562-1673456400-1673463600@ibew94.org
SUMMARY:Central Meeting - January 11\, 2023
DESCRIPTION:
URL:https://ibew94.org/date/central-meeting-january-11-2023/
LOCATION:Knights of Columbus\, 571 Lincoln Highway\, Islen\, NJ\, United States
END:VEVENT
BEGIN:VEVENT
DTSTART;TZID=America/New_York:20230105T170000
DTEND;TZID=America/New_York:20230105T190000
DTSTAMP:20260423T043240
CREATED:20230110T153505Z
LAST-MODIFIED:20230110T153505Z
UID:1564-1672938000-1672945200@ibew94.org
SUMMARY:Northern Meeting -  January 5\, 2023
DESCRIPTION:
URL:https://ibew94.org/date/northern-meeting-january-5-2023/
LOCATION:VFW Hall\, 222 River Road\, North Arlington
END:VEVENT
BEGIN:VEVENT
DTSTART;TZID=America/New_York:20221013T180000
DTEND;TZID=America/New_York:20221013T200000
DTSTAMP:20260423T043240
CREATED:20221006T142259Z
LAST-MODIFIED:20221006T142259Z
UID:1435-1665684000-1665691200@ibew94.org
SUMMARY:General Meeting - Thursday October 13\, 2022
DESCRIPTION:
URL:https://ibew94.org/date/general-meeting-thursday-october-13-2022/
LOCATION:Hightstown Elks\, 10 Hickory Corner Road\, East Windsor\, NJ\, United States
END:VEVENT
BEGIN:VEVENT
DTSTART;VALUE=DATE:20220923
DTEND;VALUE=DATE:20221120
DTSTAMP:20260423T043240
CREATED:20210629T152709Z
LAST-MODIFIED:20220808T212006Z
UID:1036-1663891200-1668902399@ibew94.org
SUMMARY:IBEW Local 94  9th Annual Food Drive
DESCRIPTION:Supporting the Rise Food Pantry in Hightstown\, NJ The final collection date will be September 23\, 2022  \nSuggested Non Perishable Food Items  \nCanned Meats (tuna\, chicken\, salmon)  \nCanned and Boxed Meals (soup\, chili\, mac n cheese)  \nPeanut Butter and other Nut Butters  \nPasta\, Rice\, Cereal  \nCanned Fruits and Vegetables  \n100% Fruit and Vegetable Juice  \nCooking Oil  \nShelf Stable Milk/ Baby Formula  \nLow Fat\, Low Sodium\, Multigrain- Healthy Items  \nBaby Supplies and Personal Care items are also accepted  \nPlease be generous and help feed families in need. Thank you for your support!  \nSponsored by the IBEW Local 94 NxtUp Committee  \nContact the Local 94 office for more information 609-426-9702  or see your local shop steward. 
URL:https://ibew94.org/date/8th-annual-food-drive/
ATTACH;FMTTYPE=image/jpeg:https://ibew94.org/wp-content/uploads/2021/06/easy_ways_to_become_the_community_hub.jpeg
END:VEVENT
BEGIN:VEVENT
DTSTART;TZID=America/New_York:20220921T170000
DTEND;TZID=America/New_York:20220921T190000
DTSTAMP:20260423T043240
CREATED:20220830T221134Z
LAST-MODIFIED:20220830T221134Z
UID:1404-1663779600-1663786800@ibew94.org
SUMMARY:Southern Meeting
DESCRIPTION:
URL:https://ibew94.org/date/southern-meeting/
LOCATION:Roma Club\, Lincoln Ave\, Burlington
END:VEVENT
BEGIN:VEVENT
DTSTART;TZID=America/New_York:20220920T163000
DTEND;TZID=America/New_York:20220920T183000
DTSTAMP:20260423T043240
CREATED:20220830T221029Z
LAST-MODIFIED:20220831T170100Z
UID:1401-1663691400-1663698600@ibew94.org
SUMMARY:Nuclear Meeting
DESCRIPTION:
URL:https://ibew94.org/date/nuclear-stewards-meeting/
LOCATION:VFW Hall Pensville\, 171 S. Broadway\, Pennsville\, NJ\, United States
END:VEVENT
BEGIN:VEVENT
DTSTART;VALUE=DATE:20220910
DTEND;VALUE=DATE:20220911
DTSTAMP:20260423T043240
CREATED:20210629T153641Z
LAST-MODIFIED:20220808T211333Z
UID:1046-1662768000-1662854399@ibew94.org
SUMMARY:Local 94 Dinner Dance Tropicana Atlantic City
DESCRIPTION:Details: Local 94 Dinner Dance Tropicana Atlantic City \nWhen: 9/10/2022 \nWhere: Tropicana Atlantic City \n7pm-11pm   \n$100.00 per person *  \nPrice includes dinner\, dancing and 4 hour open bar)  \n\nDiscounted room rate of $114.00+taxes available for first 50 people.  • Contact 1-888-516-2215 (code ST09BE2) to reserve today! \n\nIBEW LOCAL 94 | 299 Ward St. Floor 2 | East Windsor\, NJ 08520  \nTropicana Resort Atlantic City Featuring Live Music from McGill & Co. with access to the beach and boardwalk \n*PLEASE NOTE:   \n\nFor dinner dance reservations\, contact Carla Wolfe at 609-426-9702 ext.101\, by Aug 1\, 2022. • Please make checks payable to IBEW Local 94 and include Dinner Dance in the Memo Line • Members can also reserve a room by Aug 1\, 2022. Discounted rate applies for the first 50 rooms  (first come first serve). Contact 1-888-516-2215 (code ST09BE2) to reserve today! 
URL:https://ibew94.org/date/local-94-dinner-dance-tropicana-atlantic-city/
ATTACH;FMTTYPE=image/jpeg:https://ibew94.org/wp-content/uploads/2021/06/tropicana-casino-night-view-1024x677-1.jpeg
END:VEVENT
BEGIN:VEVENT
DTSTART;TZID=America/New_York:20220908T170000
DTEND;TZID=America/New_York:20220908T190000
DTSTAMP:20260423T043240
CREATED:20220830T220840Z
LAST-MODIFIED:20220830T220840Z
UID:1398-1662656400-1662663600@ibew94.org
SUMMARY:Northern Meeting
DESCRIPTION:
URL:https://ibew94.org/date/northern-meeting/
LOCATION:VFW Hall\, 222 River Road\, North Arlington
END:VEVENT
BEGIN:VEVENT
DTSTART;VALUE=DATE:20210911
DTEND;VALUE=DATE:20210912
DTSTAMP:20260423T043240
CREATED:20210629T153132Z
LAST-MODIFIED:20210629T154525Z
UID:1040-1631318400-1631404799@ibew94.org
SUMMARY:IBEW Local 94’s Golf Outing @ Royce Brooke Country Club
DESCRIPTION:Details: IBEW Local 94’s Golf Outing \nWhere: Royce Brooke Country Club \nWhen: 9/11/2021 \nFor more information\, feel free to reach out!
URL:https://ibew94.org/date/ibew-local-94s-golf-outing-royce-brooke-country-club/
ATTACH;FMTTYPE=image/jpeg:https://ibew94.org/wp-content/uploads/2021/06/download-1.jpeg
END:VEVENT
END:VCALENDAR