BEGIN:VCALENDAR
VERSION:2.0
PRODID:-//IBEW Local 94 - ECPv6.15.13//NONSGML v1.0//EN
CALSCALE:GREGORIAN
METHOD:PUBLISH
X-WR-CALNAME:IBEW Local 94
X-ORIGINAL-URL:https://ibew94.org
X-WR-CALDESC:Events for IBEW Local 94
REFRESH-INTERVAL;VALUE=DURATION:PT1H
X-Robots-Tag:noindex
X-PUBLISHED-TTL:PT1H
BEGIN:VTIMEZONE
TZID:America/New_York
BEGIN:DAYLIGHT
TZOFFSETFROM:-0500
TZOFFSETTO:-0400
TZNAME:EDT
DTSTART:20210314T070000
END:DAYLIGHT
BEGIN:STANDARD
TZOFFSETFROM:-0400
TZOFFSETTO:-0500
TZNAME:EST
DTSTART:20211107T060000
END:STANDARD
BEGIN:DAYLIGHT
TZOFFSETFROM:-0500
TZOFFSETTO:-0400
TZNAME:EDT
DTSTART:20220313T070000
END:DAYLIGHT
BEGIN:STANDARD
TZOFFSETFROM:-0400
TZOFFSETTO:-0500
TZNAME:EST
DTSTART:20221106T060000
END:STANDARD
BEGIN:DAYLIGHT
TZOFFSETFROM:-0500
TZOFFSETTO:-0400
TZNAME:EDT
DTSTART:20230312T070000
END:DAYLIGHT
BEGIN:STANDARD
TZOFFSETFROM:-0400
TZOFFSETTO:-0500
TZNAME:EST
DTSTART:20231105T060000
END:STANDARD
BEGIN:DAYLIGHT
TZOFFSETFROM:-0500
TZOFFSETTO:-0400
TZNAME:EDT
DTSTART:20240310T070000
END:DAYLIGHT
BEGIN:STANDARD
TZOFFSETFROM:-0400
TZOFFSETTO:-0500
TZNAME:EST
DTSTART:20241103T060000
END:STANDARD
END:VTIMEZONE
BEGIN:VEVENT
DTSTART;TZID=America/New_York:20231214T180000
DTEND;TZID=America/New_York:20231214T200000
DTSTAMP:20260423T014532
CREATED:20230110T143803Z
LAST-MODIFIED:20230110T143803Z
UID:1509-1702576800-1702584000@ibew94.org
SUMMARY:General Meeting - Thursday December 14\, 2023
DESCRIPTION:
URL:https://ibew94.org/date/general-meeting-thursday-december-14-2023/
LOCATION:Hightstown Elks\, 10 Hickory Corner Road\, East Windsor\, NJ\, United States
END:VEVENT
BEGIN:VEVENT
DTSTART;TZID=America/New_York:20231121T163000
DTEND;TZID=America/New_York:20231121T183000
DTSTAMP:20260423T014532
CREATED:20230110T144239Z
LAST-MODIFIED:20230110T144239Z
UID:1512-1700584200-1700591400@ibew94.org
SUMMARY:Nuclear Meeting - Tuesday November 21\, 2023
DESCRIPTION:
URL:https://ibew94.org/date/nuclear-meeting-tuesday-november-21-2023/
LOCATION:VFW Hall Pensville\, 171 S. Broadway\, Pennsville\, NJ\, United States
END:VEVENT
BEGIN:VEVENT
DTSTART;TZID=America/New_York:20231115T170000
DTEND;TZID=America/New_York:20231115T190000
DTSTAMP:20260423T014532
CREATED:20230110T144546Z
LAST-MODIFIED:20230110T144830Z
UID:1515-1700067600-1700074800@ibew94.org
SUMMARY:Southern Meeting - November 15\, 2023
DESCRIPTION:
URL:https://ibew94.org/date/southern-meeting-november-15-2023/
LOCATION:Roma Club\, Lincoln Ave\, Burlington
END:VEVENT
BEGIN:VEVENT
DTSTART;TZID=America/New_York:20231108T170000
DTEND;TZID=America/New_York:20231108T190000
DTSTAMP:20260423T014532
CREATED:20220830T220641Z
LAST-MODIFIED:20230110T145002Z
UID:1394-1699462800-1699470000@ibew94.org
SUMMARY:Central Meeting - November 8\, 2023
DESCRIPTION:
URL:https://ibew94.org/date/central-meeting/
LOCATION:Knights of Columbus\, 571 Lincoln Highway\, Islen\, NJ\, United States
END:VEVENT
BEGIN:VEVENT
DTSTART;TZID=America/New_York:20231102T170000
DTEND;TZID=America/New_York:20231102T190000
DTSTAMP:20260423T014532
CREATED:20230110T145145Z
LAST-MODIFIED:20230110T145145Z
UID:1519-1698944400-1698951600@ibew94.org
SUMMARY:Northern Meeting -  November 2\, 2023
DESCRIPTION:
URL:https://ibew94.org/date/northern-meeting-november-2-2023/
LOCATION:VFW Hall\, 222 River Road\, North Arlington
END:VEVENT
BEGIN:VEVENT
DTSTART;TZID=America/New_York:20231012T180000
DTEND;TZID=America/New_York:20231012T200000
DTSTAMP:20260423T014532
CREATED:20230110T145328Z
LAST-MODIFIED:20230110T145328Z
UID:1522-1697133600-1697140800@ibew94.org
SUMMARY:General Meeting - October 12\, 2023
DESCRIPTION:
URL:https://ibew94.org/date/general-meeting-october-12-2023/
LOCATION:Hightstown Elks\, 10 Hickory Corner Road\, East Windsor\, NJ\, United States
END:VEVENT
BEGIN:VEVENT
DTSTART;TZID=America/New_York:20230920T170000
DTEND;TZID=America/New_York:20230920T190000
DTSTAMP:20260423T014532
CREATED:20230110T145444Z
LAST-MODIFIED:20230110T145444Z
UID:1524-1695229200-1695236400@ibew94.org
SUMMARY:Southern Meeting - September 20\, 2023
DESCRIPTION:
URL:https://ibew94.org/date/southern-meeting-september-20-2023/
LOCATION:Roma Club\, Lincoln Ave\, Burlington
END:VEVENT
BEGIN:VEVENT
DTSTART;TZID=America/New_York:20230919T163000
DTEND;TZID=America/New_York:20230919T183000
DTSTAMP:20260423T014532
CREATED:20230110T145605Z
LAST-MODIFIED:20230110T145605Z
UID:1526-1695141000-1695148200@ibew94.org
SUMMARY:Nuclear Meeting - September 19\, 2023
DESCRIPTION:
URL:https://ibew94.org/date/nuclear-meeting-september-19-2023/
LOCATION:VFW Hall Pensville\, 171 S. Broadway\, Pennsville\, NJ\, United States
END:VEVENT
BEGIN:VEVENT
DTSTART;TZID=America/New_York:20230913T170000
DTEND;TZID=America/New_York:20230913T190000
DTSTAMP:20260423T014532
CREATED:20230110T145715Z
LAST-MODIFIED:20230110T145715Z
UID:1528-1694624400-1694631600@ibew94.org
SUMMARY:Central Meeting - September 13\, 2023
DESCRIPTION:
URL:https://ibew94.org/date/central-meeting-september-13-2023/
LOCATION:Knights of Columbus\, 571 Lincoln Highway\, Islen\, NJ\, United States
END:VEVENT
BEGIN:VEVENT
DTSTART;TZID=America/New_York:20230907T170000
DTEND;TZID=America/New_York:20230907T190000
DTSTAMP:20260423T014532
CREATED:20230110T145934Z
LAST-MODIFIED:20230110T145934Z
UID:1531-1694106000-1694113200@ibew94.org
SUMMARY:Northern Meeting -  September 7\, 2023
DESCRIPTION:
URL:https://ibew94.org/date/northern-meeting-september-7-2023/
LOCATION:VFW Hall\, 222 River Road\, North Arlington
END:VEVENT
BEGIN:VEVENT
DTSTART;TZID=America/New_York:20230810T180000
DTEND;TZID=America/New_York:20230810T200000
DTSTAMP:20260423T014532
CREATED:20230110T150139Z
LAST-MODIFIED:20230110T150139Z
UID:1533-1691690400-1691697600@ibew94.org
SUMMARY:General Meeting - August 10\, 2023
DESCRIPTION:
URL:https://ibew94.org/date/general-meeting-august-10-2023/
LOCATION:Hightstown Elks\, 10 Hickory Corner Road\, East Windsor\, NJ\, United States
END:VEVENT
BEGIN:VEVENT
DTSTART;TZID=America/New_York:20230713T180000
DTEND;TZID=America/New_York:20230713T200000
DTSTAMP:20260423T014532
CREATED:20230110T150247Z
LAST-MODIFIED:20230110T150247Z
UID:1535-1689271200-1689278400@ibew94.org
SUMMARY:General Meeting - July 13\, 2023
DESCRIPTION:
URL:https://ibew94.org/date/general-meeting-july-13-2023/
LOCATION:Hightstown Elks\, 10 Hickory Corner Road\, East Windsor\, NJ\, United States
END:VEVENT
BEGIN:VEVENT
DTSTART;TZID=America/New_York:20230608T180000
DTEND;TZID=America/New_York:20230608T200000
DTSTAMP:20260423T014532
CREATED:20230110T150335Z
LAST-MODIFIED:20230110T150335Z
UID:1537-1686247200-1686254400@ibew94.org
SUMMARY:General Meeting - June 8\, 2023
DESCRIPTION:
URL:https://ibew94.org/date/general-meeting-june-8-2023/
LOCATION:Hightstown Elks\, 10 Hickory Corner Road\, East Windsor\, NJ\, United States
END:VEVENT
BEGIN:VEVENT
DTSTART;TZID=America/New_York:20230517T170000
DTEND;TZID=America/New_York:20230517T190000
DTSTAMP:20260423T014532
CREATED:20230110T150451Z
LAST-MODIFIED:20230110T150451Z
UID:1539-1684342800-1684350000@ibew94.org
SUMMARY:Southern Meeting - May 17\, 2023
DESCRIPTION:
URL:https://ibew94.org/date/southern-meeting-may-17-2023/
LOCATION:Roma Club\, Lincoln Ave\, Burlington
END:VEVENT
BEGIN:VEVENT
DTSTART;TZID=America/New_York:20230516T163000
DTEND;TZID=America/New_York:20230516T183000
DTSTAMP:20260423T014532
CREATED:20230110T150545Z
LAST-MODIFIED:20230110T150545Z
UID:1541-1684254600-1684261800@ibew94.org
SUMMARY:Nuclear Meeting - May 16\, 2023
DESCRIPTION:
URL:https://ibew94.org/date/nuclear-meeting-may-16-2023/
LOCATION:VFW Hall Pensville\, 171 S. Broadway\, Pennsville\, NJ\, United States
END:VEVENT
BEGIN:VEVENT
DTSTART;TZID=America/New_York:20230510T170000
DTEND;TZID=America/New_York:20230510T190000
DTSTAMP:20260423T014532
CREATED:20230110T150635Z
LAST-MODIFIED:20230110T150635Z
UID:1543-1683738000-1683745200@ibew94.org
SUMMARY:Central Meeting - May 10\, 2023
DESCRIPTION:
URL:https://ibew94.org/date/central-meeting-may-10-2023/
LOCATION:Knights of Columbus\, 571 Lincoln Highway\, Islen\, NJ\, United States
END:VEVENT
BEGIN:VEVENT
DTSTART;TZID=America/New_York:20230504T170000
DTEND;TZID=America/New_York:20230504T190000
DTSTAMP:20260423T014532
CREATED:20230110T150723Z
LAST-MODIFIED:20230110T150723Z
UID:1530-1683219600-1683226800@ibew94.org
SUMMARY:Northern Meeting -  May 4\, 2023
DESCRIPTION:
URL:https://ibew94.org/date/northern-meeting-may-4-2023/
LOCATION:VFW Hall\, 222 River Road\, North Arlington
END:VEVENT
BEGIN:VEVENT
DTSTART;TZID=America/New_York:20230413T180000
DTEND;TZID=America/New_York:20230413T200000
DTSTAMP:20260423T014532
CREATED:20230110T152552Z
LAST-MODIFIED:20230110T152552Z
UID:1546-1681408800-1681416000@ibew94.org
SUMMARY:General Meeting - April 13\, 2023
DESCRIPTION:
URL:https://ibew94.org/date/general-meeting-april-13-2023/
LOCATION:Hightstown Elks\, 10 Hickory Corner Road\, East Windsor\, NJ\, United States
END:VEVENT
BEGIN:VEVENT
DTSTART;TZID=America/New_York:20230321T163000
DTEND;TZID=America/New_York:20230321T183000
DTSTAMP:20260423T014532
CREATED:20230110T152649Z
LAST-MODIFIED:20230110T152649Z
UID:1548-1679416200-1679423400@ibew94.org
SUMMARY:Nuclear Meeting - March 21\, 2023
DESCRIPTION:
URL:https://ibew94.org/date/nuclear-meeting-march-21-2023/
LOCATION:VFW Hall Pensville\, 171 S. Broadway\, Pennsville\, NJ\, United States
END:VEVENT
BEGIN:VEVENT
DTSTART;TZID=America/New_York:20230315T170000
DTEND;TZID=America/New_York:20230315T190000
DTSTAMP:20260423T014532
CREATED:20230110T152742Z
LAST-MODIFIED:20230110T152742Z
UID:1550-1678899600-1678906800@ibew94.org
SUMMARY:Southern Meeting - March 15\, 2023
DESCRIPTION:
URL:https://ibew94.org/date/southern-meeting-march-15-2023/
LOCATION:Roma Club\, Lincoln Ave\, Burlington
END:VEVENT
BEGIN:VEVENT
DTSTART;TZID=America/New_York:20230308T170000
DTEND;TZID=America/New_York:20230308T190000
DTSTAMP:20260423T014532
CREATED:20230110T152828Z
LAST-MODIFIED:20230110T152828Z
UID:1552-1678294800-1678302000@ibew94.org
SUMMARY:Central Meeting - March 8\, 2023
DESCRIPTION:
URL:https://ibew94.org/date/central-meeting-march-8-2023/
LOCATION:Knights of Columbus\, 571 Lincoln Highway\, Islen\, NJ\, United States
END:VEVENT
BEGIN:VEVENT
DTSTART;TZID=America/New_York:20230302T170000
DTEND;TZID=America/New_York:20230302T190000
DTSTAMP:20260423T014532
CREATED:20230110T152920Z
LAST-MODIFIED:20230110T154011Z
UID:1554-1677776400-1677783600@ibew94.org
SUMMARY:Northern Meeting -  March 2\, 2023
DESCRIPTION:
URL:https://ibew94.org/date/northern-meeting-march-2-2023/
LOCATION:VFW Hall\, 222 River Road\, North Arlington
END:VEVENT
BEGIN:VEVENT
DTSTART;TZID=America/New_York:20230209T180000
DTEND;TZID=America/New_York:20230209T200000
DTSTAMP:20260423T014532
CREATED:20230110T153025Z
LAST-MODIFIED:20230110T153025Z
UID:1556-1675965600-1675972800@ibew94.org
SUMMARY:General Meeting - February 9\, 2023
DESCRIPTION:
URL:https://ibew94.org/date/general-meeting-february-9-2023/
LOCATION:Hightstown Elks\, 10 Hickory Corner Road\, East Windsor\, NJ\, United States
END:VEVENT
BEGIN:VEVENT
DTSTART;TZID=America/New_York:20230118T170000
DTEND;TZID=America/New_York:20230118T190000
DTSTAMP:20260423T014532
CREATED:20230110T153137Z
LAST-MODIFIED:20230110T153137Z
UID:1558-1674061200-1674068400@ibew94.org
SUMMARY:Southern Meeting - January 18\, 2023
DESCRIPTION:
URL:https://ibew94.org/date/southern-meeting-january-18-2023/
LOCATION:Roma Club\, Lincoln Ave\, Burlington
END:VEVENT
BEGIN:VEVENT
DTSTART;TZID=America/New_York:20230117T163000
DTEND;TZID=America/New_York:20230117T183000
DTSTAMP:20260423T014532
CREATED:20230110T153217Z
LAST-MODIFIED:20230110T153218Z
UID:1560-1673973000-1673980200@ibew94.org
SUMMARY:Nuclear Meeting - January 17\, 2023
DESCRIPTION:
URL:https://ibew94.org/date/nuclear-meeting-january-17-2023/
LOCATION:VFW Hall Pensville\, 171 S. Broadway\, Pennsville\, NJ\, United States
END:VEVENT
BEGIN:VEVENT
DTSTART;TZID=America/New_York:20230111T170000
DTEND;TZID=America/New_York:20230111T190000
DTSTAMP:20260423T014532
CREATED:20230110T153302Z
LAST-MODIFIED:20230110T153302Z
UID:1562-1673456400-1673463600@ibew94.org
SUMMARY:Central Meeting - January 11\, 2023
DESCRIPTION:
URL:https://ibew94.org/date/central-meeting-january-11-2023/
LOCATION:Knights of Columbus\, 571 Lincoln Highway\, Islen\, NJ\, United States
END:VEVENT
BEGIN:VEVENT
DTSTART;TZID=America/New_York:20230105T170000
DTEND;TZID=America/New_York:20230105T190000
DTSTAMP:20260423T014532
CREATED:20230110T153505Z
LAST-MODIFIED:20230110T153505Z
UID:1564-1672938000-1672945200@ibew94.org
SUMMARY:Northern Meeting -  January 5\, 2023
DESCRIPTION:
URL:https://ibew94.org/date/northern-meeting-january-5-2023/
LOCATION:VFW Hall\, 222 River Road\, North Arlington
END:VEVENT
BEGIN:VEVENT
DTSTART;TZID=America/New_York:20221013T180000
DTEND;TZID=America/New_York:20221013T200000
DTSTAMP:20260423T014532
CREATED:20221006T142259Z
LAST-MODIFIED:20221006T142259Z
UID:1435-1665684000-1665691200@ibew94.org
SUMMARY:General Meeting - Thursday October 13\, 2022
DESCRIPTION:
URL:https://ibew94.org/date/general-meeting-thursday-october-13-2022/
LOCATION:Hightstown Elks\, 10 Hickory Corner Road\, East Windsor\, NJ\, United States
END:VEVENT
BEGIN:VEVENT
DTSTART;VALUE=DATE:20220923
DTEND;VALUE=DATE:20221120
DTSTAMP:20260423T014532
CREATED:20210629T152709Z
LAST-MODIFIED:20220808T212006Z
UID:1036-1663891200-1668902399@ibew94.org
SUMMARY:IBEW Local 94  9th Annual Food Drive
DESCRIPTION:Supporting the Rise Food Pantry in Hightstown\, NJ The final collection date will be September 23\, 2022  \nSuggested Non Perishable Food Items  \nCanned Meats (tuna\, chicken\, salmon)  \nCanned and Boxed Meals (soup\, chili\, mac n cheese)  \nPeanut Butter and other Nut Butters  \nPasta\, Rice\, Cereal  \nCanned Fruits and Vegetables  \n100% Fruit and Vegetable Juice  \nCooking Oil  \nShelf Stable Milk/ Baby Formula  \nLow Fat\, Low Sodium\, Multigrain- Healthy Items  \nBaby Supplies and Personal Care items are also accepted  \nPlease be generous and help feed families in need. Thank you for your support!  \nSponsored by the IBEW Local 94 NxtUp Committee  \nContact the Local 94 office for more information 609-426-9702  or see your local shop steward. 
URL:https://ibew94.org/date/8th-annual-food-drive/
ATTACH;FMTTYPE=image/jpeg:https://ibew94.org/wp-content/uploads/2021/06/easy_ways_to_become_the_community_hub.jpeg
END:VEVENT
BEGIN:VEVENT
DTSTART;TZID=America/New_York:20220921T170000
DTEND;TZID=America/New_York:20220921T190000
DTSTAMP:20260423T014532
CREATED:20220830T221134Z
LAST-MODIFIED:20220830T221134Z
UID:1404-1663779600-1663786800@ibew94.org
SUMMARY:Southern Meeting
DESCRIPTION:
URL:https://ibew94.org/date/southern-meeting/
LOCATION:Roma Club\, Lincoln Ave\, Burlington
END:VEVENT
END:VCALENDAR